Package: BiocGenerics Version: 0.52.0 Command: /home/biocbuild/R/R/bin/R CMD check --install=check:BiocGenerics.install-out.txt --library=/home/biocbuild/R/R/site-library --no-vignettes --timings BiocGenerics_0.52.0.tar.gz StartedAt: 2025-01-31 04:11:07 -0000 (Fri, 31 Jan 2025) EndedAt: 2025-01-31 04:12:28 -0000 (Fri, 31 Jan 2025) EllapsedTime: 81.2 seconds RetCode: 0 Status: WARNINGS CheckDir: BiocGenerics.Rcheck Warnings: 1