Package: Biobase Version: 2.66.0 Command: /Library/Frameworks/R.framework/Resources/bin/R CMD build --keep-empty-dirs --no-resave-data Biobase StartedAt: 2025-01-30 17:24:05 -0500 (Thu, 30 Jan 2025) EndedAt: 2025-01-30 17:24:58 -0500 (Thu, 30 Jan 2025) EllapsedTime: 52.4 seconds RetCode: 0 Status: OK PackageFile: Biobase_2.66.0.tar.gz PackageFileSize: 1.886 MiB