Package: BioNAR Version: 1.8.1 Command: /Library/Frameworks/R.framework/Resources/bin/R CMD INSTALL BioNAR StartedAt: 2025-01-30 17:12:47 -0500 (Thu, 30 Jan 2025) EndedAt: 2025-01-30 17:13:17 -0500 (Thu, 30 Jan 2025) EllapsedTime: 29.6 seconds RetCode: 0 Status: OK