Package: BioCartaImage Version: 1.4.0 Command: /Library/Frameworks/R.framework/Resources/bin/R CMD INSTALL BioCartaImage StartedAt: 2025-01-30 15:08:07 -0500 (Thu, 30 Jan 2025) EndedAt: 2025-01-30 15:08:25 -0500 (Thu, 30 Jan 2025) EllapsedTime: 17.4 seconds RetCode: 0 Status: OK