Package: BadRegionFinder Version: 1.34.0 Command: /home/biocbuild/bbs-3.20-bioc/R/bin/R CMD check --install=check:BadRegionFinder.install-out.txt --library=/home/biocbuild/bbs-3.20-bioc/R/site-library --timings BadRegionFinder_1.34.0.tar.gz StartedAt: 2024-11-19 23:02:41 -0500 (Tue, 19 Nov 2024) EndedAt: 2024-11-19 23:07:01 -0500 (Tue, 19 Nov 2024) EllapsedTime: 259.2 seconds RetCode: 0 Status: OK CheckDir: BadRegionFinder.Rcheck Warnings: 0