Package: BadRegionFinder Version: 1.34.0 Command: chmod a+r BadRegionFinder -R && F:\biocbuild\bbs-3.20-bioc\R\bin\R.exe CMD build --keep-empty-dirs --no-resave-data BadRegionFinder StartedAt: 2025-01-30 17:23:21 -0500 (Thu, 30 Jan 2025) EndedAt: 2025-01-30 17:24:57 -0500 (Thu, 30 Jan 2025) EllapsedTime: 95.9 seconds RetCode: 0 Status: OK PackageFile: BadRegionFinder_1.34.0.tar.gz PackageFileSize: 713.8 KiB