Package: BadRegionFinder Version: 1.34.0 Command: /Library/Frameworks/R.framework/Resources/bin/R CMD check --install=check:BadRegionFinder.install-out.txt --library=/Library/Frameworks/R.framework/Resources/library --no-vignettes --timings BadRegionFinder_1.34.0.tar.gz StartedAt: 2024-11-19 19:37:27 -0500 (Tue, 19 Nov 2024) EndedAt: 2024-11-19 19:45:05 -0500 (Tue, 19 Nov 2024) EllapsedTime: 457.3 seconds RetCode: 0 Status: OK CheckDir: BadRegionFinder.Rcheck Warnings: 0