Package: BadRegionFinder Version: 1.34.0 Command: /Library/Frameworks/R.framework/Resources/bin/R CMD INSTALL BadRegionFinder StartedAt: 2025-01-30 16:23:56 -0500 (Thu, 30 Jan 2025) EndedAt: 2025-01-30 16:24:46 -0500 (Thu, 30 Jan 2025) EllapsedTime: 49.2 seconds RetCode: 0 Status: OK