Package: BadRegionFinder Version: 1.34.0 Command: rm -rf BadRegionFinder.buildbin-libdir && mkdir BadRegionFinder.buildbin-libdir && /Users/biocbuild/BBS/utils/build-universal.sh BadRegionFinder_1.34.0.tar.gz /Library/Frameworks/R.framework/Resources/bin/R BadRegionFinder.buildbin-libdir StartedAt: 2025-02-01 13:57:09 -0500 (Sat, 01 Feb 2025) EndedAt: 2025-02-01 13:58:03 -0500 (Sat, 01 Feb 2025) EllapsedTime: 53.1 seconds RetCode: 0 Status: OK PackageFile: BadRegionFinder_1.34.0.tgz PackageFileSize: 927.1 KiB