Package: BaalChIP Version: 1.32.0 Command: /home/biocbuild/R/R/bin/R CMD build --keep-empty-dirs --no-resave-data BaalChIP StartedAt: 2025-01-30 21:39:37 -0000 (Thu, 30 Jan 2025) EndedAt: 2025-01-30 21:42:20 -0000 (Thu, 30 Jan 2025) EllapsedTime: 162.1 seconds RetCode: 0 Status: OK PackageFile: BaalChIP_1.32.0.tar.gz PackageFileSize: 44.89 MiB