Package: BaalChIP Version: 1.31.0 Command: rm -rf BaalChIP.buildbin-libdir && mkdir BaalChIP.buildbin-libdir && F:\biocbuild\bbs-3.20-bioc\R\bin\R.exe CMD INSTALL --build --library=BaalChIP.buildbin-libdir BaalChIP_1.31.0.tar.gz StartedAt: 2024-06-10 12:53:51 -0400 (Mon, 10 Jun 2024) EndedAt: 2024-06-10 12:56:28 -0400 (Mon, 10 Jun 2024) EllapsedTime: 157.2 seconds RetCode: 0 Status: OK PackageFile: BaalChIP_1.31.0.zip PackageFileSize: 99.46 MiB