Package: BUSpaRse Version: 1.20.0 Command: /home/biocbuild/R/R/bin/R CMD INSTALL BUSpaRse StartedAt: 2025-01-30 20:35:23 -0000 (Thu, 30 Jan 2025) EndedAt: 2025-01-30 20:36:37 -0000 (Thu, 30 Jan 2025) EllapsedTime: 74.3 seconds RetCode: 0 Status: OK