Package: BUS Version: 1.62.0 Command: /Library/Frameworks/R.framework/Resources/bin/R CMD check --install=check:BUS.install-out.txt --library=/Library/Frameworks/R.framework/Resources/library --no-vignettes --timings BUS_1.62.0.tar.gz StartedAt: 2025-01-31 13:09:21 -0500 (Fri, 31 Jan 2025) EndedAt: 2025-01-31 13:09:50 -0500 (Fri, 31 Jan 2025) EllapsedTime: 28.9 seconds RetCode: 0 Status: OK CheckDir: BUS.Rcheck Warnings: 0