Package: BSgenome Version: 1.74.0 Command: rm -rf BSgenome.buildbin-libdir && mkdir BSgenome.buildbin-libdir && F:\biocbuild\bbs-3.20-bioc\R\bin\R.exe CMD INSTALL --build --library=BSgenome.buildbin-libdir BSgenome_1.74.0.tar.gz StartedAt: 2025-01-31 08:17:03 -0500 (Fri, 31 Jan 2025) EndedAt: 2025-01-31 08:18:59 -0500 (Fri, 31 Jan 2025) EllapsedTime: 116.5 seconds RetCode: 0 Status: OK PackageFile: BSgenome_1.74.0.zip PackageFileSize: 6.794 MiB