Package: BSgenome Version: 1.74.0 Command: /home/biocbuild/bbs-3.20-bioc/R/bin/R CMD check --install=check:BSgenome.install-out.txt --library=/home/biocbuild/bbs-3.20-bioc/R/site-library --timings BSgenome_1.74.0.tar.gz StartedAt: 2025-01-30 20:27:01 -0500 (Thu, 30 Jan 2025) EndedAt: 2025-01-30 20:33:30 -0500 (Thu, 30 Jan 2025) EllapsedTime: 389.4 seconds RetCode: 0 Status: WARNINGS CheckDir: BSgenome.Rcheck Warnings: 1