Package: BPRMeth Version: 1.32.0 Command: /Library/Frameworks/R.framework/Resources/bin/R CMD check --install=check:BPRMeth.install-out.txt --library=/Library/Frameworks/R.framework/Resources/library --no-vignettes --timings BPRMeth_1.32.0.tar.gz StartedAt: 2025-01-31 00:58:42 -0500 (Fri, 31 Jan 2025) EndedAt: 2025-01-31 01:03:58 -0500 (Fri, 31 Jan 2025) EllapsedTime: 316.7 seconds RetCode: 0 Status: OK CheckDir: BPRMeth.Rcheck Warnings: 0