Package: BPRMeth Version: 1.32.0 Command: /Library/Frameworks/R.framework/Resources/bin/R CMD build --keep-empty-dirs --no-resave-data BPRMeth StartedAt: 2025-01-30 17:36:28 -0500 (Thu, 30 Jan 2025) EndedAt: 2025-01-30 17:39:45 -0500 (Thu, 30 Jan 2025) EllapsedTime: 196.3 seconds RetCode: 0 Status: OK PackageFile: BPRMeth_1.32.0.tar.gz PackageFileSize: 3.274 MiB