Package: BPRMeth Version: 1.32.0 Command: /Library/Frameworks/R.framework/Resources/bin/R CMD check --install=check:BPRMeth.install-out.txt --library=/Library/Frameworks/R.framework/Resources/library --no-vignettes --timings BPRMeth_1.32.0.tar.gz StartedAt: 2024-11-19 20:05:18 -0500 (Tue, 19 Nov 2024) EndedAt: 2024-11-19 20:11:05 -0500 (Tue, 19 Nov 2024) EllapsedTime: 346.2 seconds RetCode: 0 Status: OK CheckDir: BPRMeth.Rcheck Warnings: 0