Package: BOBaFIT Version: 1.10.0 Command: /Library/Frameworks/R.framework/Resources/bin/R CMD INSTALL BOBaFIT StartedAt: 2025-01-30 16:05:49 -0500 (Thu, 30 Jan 2025) EndedAt: 2025-01-30 16:07:36 -0500 (Thu, 30 Jan 2025) EllapsedTime: 106.3 seconds RetCode: 0 Status: OK