Package: BOBaFIT Version: 1.10.0 Command: rm -rf BOBaFIT.buildbin-libdir && mkdir BOBaFIT.buildbin-libdir && /Users/biocbuild/BBS/utils/build-universal.sh BOBaFIT_1.10.0.tar.gz /Library/Frameworks/R.framework/Resources/bin/R BOBaFIT.buildbin-libdir StartedAt: 2025-01-31 12:25:54 -0500 (Fri, 31 Jan 2025) EndedAt: 2025-01-31 12:27:42 -0500 (Fri, 31 Jan 2025) EllapsedTime: 108.6 seconds RetCode: 0 Status: OK PackageFile: BOBaFIT_1.10.0.tgz PackageFileSize: 2.447 MiB