Package: BERT Version: 1.2.0 Command: rm -rf BERT.buildbin-libdir && mkdir BERT.buildbin-libdir && /Users/biocbuild/BBS/utils/build-universal.sh BERT_1.2.0.tar.gz /Library/Frameworks/R.framework/Resources/bin/R BERT.buildbin-libdir StartedAt: 2025-01-31 12:23:07 -0500 (Fri, 31 Jan 2025) EndedAt: 2025-01-31 12:23:14 -0500 (Fri, 31 Jan 2025) EllapsedTime: 6.4 seconds RetCode: 0 Status: OK PackageFile: BERT_1.2.0.tgz PackageFileSize: 322.5 KiB