Package: BEAT Version: 1.44.0 Command: chmod a+r BEAT -R && F:\biocbuild\bbs-3.20-bioc\R\bin\R.exe CMD build --keep-empty-dirs --no-resave-data BEAT StartedAt: 2025-01-30 17:26:59 -0500 (Thu, 30 Jan 2025) EndedAt: 2025-01-30 17:28:54 -0500 (Thu, 30 Jan 2025) EllapsedTime: 115.4 seconds RetCode: 0 Status: OK PackageFile: BEAT_1.44.0.tar.gz PackageFileSize: 3.133 MiB