Package: BASiCStan Version: 1.8.0 Command: /Library/Frameworks/R.framework/Resources/bin/R CMD build --keep-empty-dirs --no-resave-data BASiCStan StartedAt: 2025-01-30 17:16:04 -0500 (Thu, 30 Jan 2025) EndedAt: 2025-01-30 17:25:12 -0500 (Thu, 30 Jan 2025) EllapsedTime: 548.5 seconds RetCode: 0 Status: OK PackageFile: BASiCStan_1.8.0.tar.gz PackageFileSize: 76.7 KiB