Package: BASiCS Version: 2.18.0 Command: rm -rf BASiCS.buildbin-libdir && mkdir BASiCS.buildbin-libdir && F:\biocbuild\bbs-3.20-bioc\R\bin\R.exe CMD INSTALL --build --library=BASiCS.buildbin-libdir BASiCS_2.18.0.tar.gz StartedAt: 2025-01-31 08:11:18 -0500 (Fri, 31 Jan 2025) EndedAt: 2025-01-31 08:12:54 -0500 (Fri, 31 Jan 2025) EllapsedTime: 95.4 seconds RetCode: 0 Status: OK PackageFile: BASiCS_2.18.0.zip PackageFileSize: 3.891 MiB