Package: BASiCS Version: 2.18.0 Command: rm -rf BASiCS.buildbin-libdir && mkdir BASiCS.buildbin-libdir && /Users/biocbuild/BBS/utils/build-universal.sh BASiCS_2.18.0.tar.gz /Library/Frameworks/R.framework/Resources/bin/R BASiCS.buildbin-libdir StartedAt: 2025-01-31 12:22:04 -0500 (Fri, 31 Jan 2025) EndedAt: 2025-01-31 12:24:40 -0500 (Fri, 31 Jan 2025) EllapsedTime: 155.8 seconds RetCode: 0 Status: OK PackageFile: BASiCS_2.18.0.tgz PackageFileSize: 3.926 MiB