Package: BASiCS Version: 2.18.0 Command: /Library/Frameworks/R.framework/Resources/bin/R CMD INSTALL BASiCS StartedAt: 2025-01-30 17:51:13 -0500 (Thu, 30 Jan 2025) EndedAt: 2025-01-30 17:52:25 -0500 (Thu, 30 Jan 2025) EllapsedTime: 72.4 seconds RetCode: 0 Status: OK