Package: BANDITS Version: 1.22.0 Command: /home/biocbuild/R/R/bin/R CMD build --keep-empty-dirs --no-resave-data BANDITS StartedAt: 2025-01-30 21:41:25 -0000 (Thu, 30 Jan 2025) EndedAt: 2025-01-30 21:44:56 -0000 (Thu, 30 Jan 2025) EllapsedTime: 211.1 seconds RetCode: 0 Status: OK PackageFile: BANDITS_1.22.0.tar.gz PackageFileSize: 1.122 MiB