Package: BANDITS Version: 1.22.0 Command: chmod a+r BANDITS -R && F:\biocbuild\bbs-3.20-bioc\R\bin\R.exe CMD build --keep-empty-dirs --no-resave-data BANDITS StartedAt: 2025-01-30 17:23:55 -0500 (Thu, 30 Jan 2025) EndedAt: 2025-01-30 17:27:18 -0500 (Thu, 30 Jan 2025) EllapsedTime: 203.4 seconds RetCode: 0 Status: OK PackageFile: BANDITS_1.22.0.tar.gz PackageFileSize: 1.056 MiB