Package: BANDITS Version: 1.22.0 Command: /home/biocbuild/bbs-3.20-bioc/R/bin/R CMD INSTALL BANDITS StartedAt: 2025-01-30 15:25:59 -0500 (Thu, 30 Jan 2025) EndedAt: 2025-01-30 15:26:58 -0500 (Thu, 30 Jan 2025) EllapsedTime: 59.3 seconds RetCode: 0 Status: OK