Package: AssessORF Version: 1.24.0 Command: /home/biocbuild/R/R/bin/R CMD INSTALL AssessORF StartedAt: 2025-01-30 20:18:41 -0000 (Thu, 30 Jan 2025) EndedAt: 2025-01-30 20:18:57 -0000 (Thu, 30 Jan 2025) EllapsedTime: 15.8 seconds RetCode: 0 Status: OK