Package: AssessORF Version: 1.24.0 Command: /home/biocbuild/R/R/bin/R CMD build --keep-empty-dirs --no-resave-data AssessORF StartedAt: 2025-01-30 21:35:21 -0000 (Thu, 30 Jan 2025) EndedAt: 2025-01-30 21:36:07 -0000 (Thu, 30 Jan 2025) EllapsedTime: 46.0 seconds RetCode: 0 Status: OK PackageFile: AssessORF_1.24.0.tar.gz PackageFileSize: 4.695 MiB