Package: ArrayExpress Version: 1.66.0 Command: F:\biocbuild\bbs-3.20-bioc\R\bin\R.exe CMD check --no-multiarch --install=check:ArrayExpress.install-out.txt --library=F:\biocbuild\bbs-3.20-bioc\R\library --no-vignettes --timings ArrayExpress_1.66.0.tar.gz StartedAt: 2025-01-30 23:25:03 -0500 (Thu, 30 Jan 2025) EndedAt: 2025-01-30 23:30:30 -0500 (Thu, 30 Jan 2025) EllapsedTime: 327.5 seconds RetCode: 0 Status: OK CheckDir: ArrayExpress.Rcheck Warnings: 0