Package: ArrayExpress Version: 1.66.0 Command: /Library/Frameworks/R.framework/Resources/bin/R CMD check --install=check:ArrayExpress.install-out.txt --library=/Library/Frameworks/R.framework/Resources/library --no-vignettes --timings ArrayExpress_1.66.0.tar.gz StartedAt: 2025-01-31 11:11:55 -0500 (Fri, 31 Jan 2025) EndedAt: 2025-01-31 11:16:15 -0500 (Fri, 31 Jan 2025) EllapsedTime: 260.2 seconds RetCode: 0 Status: OK CheckDir: ArrayExpress.Rcheck Warnings: 0