Package: ArrayExpress Version: 1.66.0 Command: rm -rf ArrayExpress.buildbin-libdir && mkdir ArrayExpress.buildbin-libdir && /Users/biocbuild/BBS/utils/build-universal.sh ArrayExpress_1.66.0.tar.gz /Library/Frameworks/R.framework/Resources/bin/R ArrayExpress.buildbin-libdir StartedAt: 2025-02-01 13:54:11 -0500 (Sat, 01 Feb 2025) EndedAt: 2025-02-01 13:54:46 -0500 (Sat, 01 Feb 2025) EllapsedTime: 34.9 seconds RetCode: 0 Status: OK PackageFile: ArrayExpress_1.66.0.tgz PackageFileSize: 182.8 KiB