Package: AnnotationHubData Version: 1.36.0 Command: /home/biocbuild/bbs-3.20-bioc/R/bin/R CMD check --install=check:AnnotationHubData.install-out.txt --library=/home/biocbuild/bbs-3.20-bioc/R/site-library --timings AnnotationHubData_1.36.0.tar.gz StartedAt: 2025-01-30 19:53:05 -0500 (Thu, 30 Jan 2025) EndedAt: 2025-01-30 20:02:15 -0500 (Thu, 30 Jan 2025) EllapsedTime: 549.7 seconds RetCode: 0 Status: WARNINGS CheckDir: AnnotationHubData.Rcheck Warnings: 1