Package: AnnotationHubData Version: 1.36.0 Command: rm -rf AnnotationHubData.buildbin-libdir && mkdir AnnotationHubData.buildbin-libdir && /Users/biocbuild/BBS/utils/build-universal.sh AnnotationHubData_1.36.0.tar.gz /Library/Frameworks/R.framework/Resources/bin/R AnnotationHubData.buildbin-libdir StartedAt: 2025-01-31 12:19:42 -0500 (Fri, 31 Jan 2025) EndedAt: 2025-01-31 12:21:15 -0500 (Fri, 31 Jan 2025) EllapsedTime: 92.9 seconds RetCode: 0 Status: OK PackageFile: AnnotationHubData_1.36.0.tgz PackageFileSize: 930.3 KiB