Package: AnnotationForge Version: 1.48.0 Command: /home/biocbuild/R/R/bin/R CMD INSTALL AnnotationForge StartedAt: 2025-01-30 20:22:08 -0000 (Thu, 30 Jan 2025) EndedAt: 2025-01-30 20:22:31 -0000 (Thu, 30 Jan 2025) EllapsedTime: 22.7 seconds RetCode: 0 Status: OK