Package: AnnotationDbi Version: 1.68.0 Command: /home/biocbuild/R/R/bin/R CMD INSTALL AnnotationDbi StartedAt: 2025-01-30 20:19:37 -0000 (Thu, 30 Jan 2025) EndedAt: 2025-01-30 20:20:06 -0000 (Thu, 30 Jan 2025) EllapsedTime: 29.5 seconds RetCode: 0 Status: OK