Package: AnnotationDbi Version: 1.68.0 Command: /home/biocbuild/R/R/bin/R CMD check --install=check:AnnotationDbi.install-out.txt --library=/home/biocbuild/R/R/site-library --no-vignettes --timings AnnotationDbi_1.68.0.tar.gz StartedAt: 2025-01-31 03:49:14 -0000 (Fri, 31 Jan 2025) EndedAt: 2025-01-31 03:57:07 -0000 (Fri, 31 Jan 2025) EllapsedTime: 473.0 seconds RetCode: 0 Status: WARNINGS CheckDir: AnnotationDbi.Rcheck Warnings: 1