Package: AnnotationDbi Version: 1.68.0 Command: /home/biocbuild/bbs-3.20-bioc/R/bin/R CMD build --keep-empty-dirs --no-resave-data --md5 AnnotationDbi StartedAt: 2025-01-30 16:11:06 -0500 (Thu, 30 Jan 2025) EndedAt: 2025-01-30 16:11:57 -0500 (Thu, 30 Jan 2025) EllapsedTime: 51.0 seconds RetCode: 0 Status: OK PackageFile: AnnotationDbi_1.68.0.tar.gz PackageFileSize: 4.175 MiB