Package: AnVILPublish Version: 1.16.0 Command: /home/biocbuild/bbs-3.20-bioc/R/bin/R CMD check --install=check:AnVILPublish.install-out.txt --library=/home/biocbuild/bbs-3.20-bioc/R/site-library --timings AnVILPublish_1.16.0.tar.gz StartedAt: 2025-01-30 19:54:55 -0500 (Thu, 30 Jan 2025) EndedAt: 2025-01-30 19:55:27 -0500 (Thu, 30 Jan 2025) EllapsedTime: 31.1 seconds RetCode: 0 Status: OK CheckDir: AnVILPublish.Rcheck Warnings: 0