Package: AnVILPublish Version: 1.16.0 Command: rm -rf AnVILPublish.buildbin-libdir && mkdir AnVILPublish.buildbin-libdir && /Users/biocbuild/BBS/utils/build-universal.sh AnVILPublish_1.16.0.tar.gz /Library/Frameworks/R.framework/Resources/bin/R AnVILPublish.buildbin-libdir StartedAt: 2025-01-31 12:20:13 -0500 (Fri, 31 Jan 2025) EndedAt: 2025-01-31 12:20:26 -0500 (Fri, 31 Jan 2025) EllapsedTime: 13.2 seconds RetCode: 0 Status: OK PackageFile: AnVILPublish_1.16.0.tgz PackageFileSize: 258.7 KiB