Package: AnVILPublish Version: 1.16.0 Command: /Library/Frameworks/R.framework/Resources/bin/R CMD build --keep-empty-dirs --no-resave-data AnVILPublish StartedAt: 2025-01-30 18:53:37 -0500 (Thu, 30 Jan 2025) EndedAt: 2025-01-30 18:53:49 -0500 (Thu, 30 Jan 2025) EllapsedTime: 11.5 seconds RetCode: 0 Status: OK PackageFile: AnVILPublish_1.16.0.tar.gz PackageFileSize: 236 KiB