Package: AnVILAz Version: 1.0.0 Command: /home/biocbuild/R/R/bin/R CMD INSTALL AnVILAz StartedAt: 2025-01-30 20:19:06 -0000 (Thu, 30 Jan 2025) EndedAt: 2025-01-30 20:19:12 -0000 (Thu, 30 Jan 2025) EllapsedTime: 5.8 seconds RetCode: 0 Status: OK