Package: AffyRNADegradation Version: 1.52.0 Command: /home/biocbuild/bbs-3.20-bioc/R/bin/R CMD build --keep-empty-dirs --no-resave-data --md5 AffyRNADegradation StartedAt: 2025-01-30 16:09:10 -0500 (Thu, 30 Jan 2025) EndedAt: 2025-01-30 16:10:39 -0500 (Thu, 30 Jan 2025) EllapsedTime: 89.1 seconds RetCode: 0 Status: OK PackageFile: AffyRNADegradation_1.52.0.tar.gz PackageFileSize: 366.4 KiB