Package: AffyRNADegradation Version: 1.52.0 Command: /Library/Frameworks/R.framework/Resources/bin/R CMD INSTALL AffyRNADegradation StartedAt: 2025-01-30 15:09:48 -0500 (Thu, 30 Jan 2025) EndedAt: 2025-01-30 15:09:52 -0500 (Thu, 30 Jan 2025) EllapsedTime: 4.2 seconds RetCode: 0 Status: OK