Package: AffyRNADegradation Version: 1.52.0 Command: rm -rf AffyRNADegradation.buildbin-libdir && mkdir AffyRNADegradation.buildbin-libdir && /Users/biocbuild/BBS/utils/build-universal.sh AffyRNADegradation_1.52.0.tar.gz /Library/Frameworks/R.framework/Resources/bin/R AffyRNADegradation.buildbin-libdir StartedAt: 2025-02-01 13:49:34 -0500 (Sat, 01 Feb 2025) EndedAt: 2025-02-01 13:49:39 -0500 (Sat, 01 Feb 2025) EllapsedTime: 5.7 seconds RetCode: 0 Status: OK PackageFile: AffyRNADegradation_1.52.0.tgz PackageFileSize: 401 KiB