Package: ASpli Version: 2.16.0 Command: chmod a+r ASpli -R && F:\biocbuild\bbs-3.20-bioc\R\bin\R.exe CMD build --keep-empty-dirs --no-resave-data ASpli StartedAt: 2025-01-30 17:20:31 -0500 (Thu, 30 Jan 2025) EndedAt: 2025-01-30 17:24:25 -0500 (Thu, 30 Jan 2025) EllapsedTime: 234.1 seconds RetCode: 0 Status: OK PackageFile: ASpli_2.16.0.tar.gz PackageFileSize: 4.783 MiB