Package: ASpli Version: 2.16.0 Command: /home/biocbuild/bbs-3.20-bioc/R/bin/R CMD check --install=check:ASpli.install-out.txt --library=/home/biocbuild/bbs-3.20-bioc/R/site-library --timings ASpli_2.16.0.tar.gz StartedAt: 2025-01-30 19:56:41 -0500 (Thu, 30 Jan 2025) EndedAt: 2025-01-30 20:14:54 -0500 (Thu, 30 Jan 2025) EllapsedTime: 1093.7 seconds RetCode: 0 Status: WARNINGS CheckDir: ASpli.Rcheck Warnings: 1