Package: ASpli Version: 2.16.0 Command: /Library/Frameworks/R.framework/Resources/bin/R CMD build --keep-empty-dirs --no-resave-data ASpli StartedAt: 2025-01-30 17:10:06 -0500 (Thu, 30 Jan 2025) EndedAt: 2025-01-30 17:14:59 -0500 (Thu, 30 Jan 2025) EllapsedTime: 292.5 seconds RetCode: 0 Status: OK PackageFile: ASpli_2.16.0.tar.gz PackageFileSize: 4.778 MiB